BEGIN:VCALENDAR
PRODID:-//AT Content Types//AT Event//EN
VERSION:2.0
METHOD:PUBLISH
BEGIN:VEVENT
DTSTAMP:20260425T203946Z
CREATED:20121101T145628Z
UID:ATEvent-dd223746bfc32370eefc9c17c2ab8a6b
LAST-MODIFIED:20121101T152006Z
SUMMARY:Szupplikációs alkalom
DTSTART:20121111T100000Z
DTEND:20121111T110000Z
DESCRIPTION:A tavaszi (böjti) és ősz végi (ádventi) időszakban a
 z Evangélikus Hittudományi Egyetem hallgatói\, akik a lelkészi szo
 lgálatra készülnek\, kiszállnak egy-egy gyülekezetbe\, hogy gyako
 rlati körülmények között kóstolhassanak bele az igehirdetés szo
 lgálatába. Ezen a vasárnapon a dunaegyházi\, apostagi és solti ev
 angélikusok számára adódik alkalom a találkozásra.
LOCATION:Dunaegyháza\, evangélikus templom
CLASS:PUBLIC
END:VEVENT
END:VCALENDAR
